BEGIN:VCALENDAR
VERSION:2.0
PRODID:-//Littlebourne Parish Council//Meeting Calendar//EN
CALSCALE:GREGORIAN
METHOD:PUBLISH
BEGIN:VEVENT
UID:71044-20260401@littlebourneparishcouncil.gov.uk
DTSTAMP:20260420T124444Z
DTSTART;VALUE=DATE:20260401
DTEND;VALUE=DATE:20260402
SUMMARY:Council meeting &#8211\\; 1 April 2026
DESCRIPTION:Full Council Meeting\nView details: https://littlebourneparishcouncil.gov.uk/meetings/council-meeting-1-april-2026/
URL:https://littlebourneparishcouncil.gov.uk/meetings/council-meeting-1-april-2026/
END:VEVENT
END:VCALENDAR
