BEGIN:VCALENDAR
VERSION:2.0
PRODID:-//Littlebourne Parish Council//Meeting Calendar//EN
CALSCALE:GREGORIAN
METHOD:PUBLISH
BEGIN:VEVENT
UID:70542-20240103@littlebourneparishcouncil.gov.uk
DTSTAMP:20260423T160948Z
DTSTART;VALUE=DATE:20240103
DTEND;VALUE=DATE:20240104
SUMMARY:Council Meeting &#8211\\; 3 January 2024
DESCRIPTION:Full Council Meeting\nView details: https://littlebourneparishcouncil.gov.uk/meetings/council-meeting-3-january-2024/
URL:https://littlebourneparishcouncil.gov.uk/meetings/council-meeting-3-january-2024/
END:VEVENT
END:VCALENDAR
