BEGIN:VCALENDAR
VERSION:2.0
PRODID:-//Littlebourne Parish Council//Meeting Calendar//EN
CALSCALE:GREGORIAN
METHOD:PUBLISH
BEGIN:VEVENT
UID:70554-20240605@littlebourneparishcouncil.gov.uk
DTSTAMP:20260423T190026Z
DTSTART;VALUE=DATE:20240605
DTEND;VALUE=DATE:20240606
SUMMARY:Council Meeting &#8211\\; 5 June 2024
DESCRIPTION:Full Council Meeting\nView details: https://littlebourneparishcouncil.gov.uk/meetings/council-meeting-5-june-2024/
URL:https://littlebourneparishcouncil.gov.uk/meetings/council-meeting-5-june-2024/
END:VEVENT
END:VCALENDAR
