BEGIN:VCALENDAR
VERSION:2.0
PRODID:-//Littlebourne Parish Council//Meeting Calendar//EN
CALSCALE:GREGORIAN
METHOD:PUBLISH
BEGIN:VEVENT
UID:70892-20250305@littlebourneparishcouncil.gov.uk
DTSTAMP:20260423T173251Z
DTSTART;VALUE=DATE:20250305
DTEND;VALUE=DATE:20250306
SUMMARY:Meeting &#8211\\; 5 March 2025
DESCRIPTION:Full Council Meeting\nView details: https://littlebourneparishcouncil.gov.uk/meetings/march-meeting/
URL:https://littlebourneparishcouncil.gov.uk/meetings/march-meeting/
END:VEVENT
END:VCALENDAR
