BEGIN:VCALENDAR
VERSION:2.0
PRODID:-//Littlebourne Parish Council//Meeting Calendar//EN
CALSCALE:GREGORIAN
METHOD:PUBLISH
BEGIN:VEVENT
UID:70901-20251203@littlebourneparishcouncil.gov.uk
DTSTAMP:20260423T143058Z
DTSTART;VALUE=DATE:20251203
DTEND;VALUE=DATE:20251204
SUMMARY:Meeting &#8211\\; 3 December 2025
DESCRIPTION:Full Council Meeting\nView details: https://littlebourneparishcouncil.gov.uk/meetings/december-meeting/
URL:https://littlebourneparishcouncil.gov.uk/meetings/december-meeting/
END:VEVENT
END:VCALENDAR
