BEGIN:VCALENDAR
VERSION:2.0
PRODID:-//Littlebourne Parish Council//Meeting Calendar//EN
CALSCALE:GREGORIAN
METHOD:PUBLISH
BEGIN:VEVENT
UID:71040-20260107@littlebourneparishcouncil.gov.uk
DTSTAMP:20260423T133411Z
DTSTART;VALUE=DATE:20260107
DTEND;VALUE=DATE:20260108
SUMMARY:Council meeting &#8211\\; 7 January 2026
DESCRIPTION:Full Council Meeting\nView details: https://littlebourneparishcouncil.gov.uk/meetings/parish-council-meeting/
URL:https://littlebourneparishcouncil.gov.uk/meetings/parish-council-meeting/
END:VEVENT
END:VCALENDAR
