BEGIN:VCALENDAR
VERSION:2.0
PRODID:-//Littlebourne Parish Council//Meeting Calendar//EN
CALSCALE:GREGORIAN
METHOD:PUBLISH
BEGIN:VEVENT
UID:71043-20260318@littlebourneparishcouncil.gov.uk
DTSTAMP:20260423T130314Z
DTSTART;VALUE=DATE:20260318
DTEND;VALUE=DATE:20260319
SUMMARY:Annual Parish meeting &#8211\\; 18 March 2026
DESCRIPTION:Annual Parish Meeting\nView details: https://littlebourneparishcouncil.gov.uk/meetings/annual-parish-meeting-18-march-2026/
URL:https://littlebourneparishcouncil.gov.uk/meetings/annual-parish-meeting-18-march-2026/
END:VEVENT
END:VCALENDAR
