BEGIN:VCALENDAR
VERSION:2.0
PRODID:-//Littlebourne Parish Council//Meeting Calendar//EN
CALSCALE:GREGORIAN
METHOD:PUBLISH
BEGIN:VEVENT
UID:71048-20260902@littlebourneparishcouncil.gov.uk
DTSTAMP:20260421T082456Z
DTSTART;VALUE=DATE:20260902
DTEND;VALUE=DATE:20260903
SUMMARY:Council meeting &#8211\\; 2 September 2026
DESCRIPTION:Full Council Meeting\nView details: https://littlebourneparishcouncil.gov.uk/meetings/council-meeting-2-september-2026/
URL:https://littlebourneparishcouncil.gov.uk/meetings/council-meeting-2-september-2026/
END:VEVENT
END:VCALENDAR
